Package: enrichViewNet Version: 1.5.0 Command: /Library/Frameworks/R.framework/Resources/bin/R CMD INSTALL enrichViewNet StartedAt: 2025-02-09 15:22:56 -0500 (Sun, 09 Feb 2025) EndedAt: 2025-02-09 15:23:05 -0500 (Sun, 09 Feb 2025) EllapsedTime: 9.3 seconds RetCode: 0 Status: OK