Package: enrichViewNet Version: 1.5.0 Command: /Library/Frameworks/R.framework/Resources/bin/R CMD build --keep-empty-dirs --no-resave-data enrichViewNet StartedAt: 2025-02-09 16:39:53 -0500 (Sun, 09 Feb 2025) EndedAt: 2025-02-09 16:40:56 -0500 (Sun, 09 Feb 2025) EllapsedTime: 62.8 seconds RetCode: 0 Status: OK PackageFile: enrichViewNet_1.5.0.tar.gz PackageFileSize: 4.38 MiB