Package: enrichViewNet Version: 1.5.0 Command: /home/biocbuild/bbs-3.21-bioc/R/bin/R CMD build --keep-empty-dirs --no-resave-data enrichViewNet StartedAt: 2025-02-09 17:07:51 -0500 (Sun, 09 Feb 2025) EndedAt: 2025-02-09 17:08:48 -0500 (Sun, 09 Feb 2025) EllapsedTime: 57.1 seconds RetCode: 0 Status: OK PackageFile: enrichViewNet_1.5.0.tar.gz PackageFileSize: 4.258 MiB