Package: enrichViewNet Version: 1.5.0 Command: /home/biocbuild/bbs-3.21-bioc/R/bin/R CMD INSTALL enrichViewNet StartedAt: 2025-02-09 15:45:28 -0500 (Sun, 09 Feb 2025) EndedAt: 2025-02-09 15:45:52 -0500 (Sun, 09 Feb 2025) EllapsedTime: 23.7 seconds RetCode: 0 Status: OK