Package: enrichViewNet Version: 1.5.0 Command: rm -rf enrichViewNet.buildbin-libdir && mkdir enrichViewNet.buildbin-libdir && E:\biocbuild\bbs-3.21-bioc\R\bin\R.exe CMD INSTALL --build --library=enrichViewNet.buildbin-libdir enrichViewNet_1.5.0.tar.gz StartedAt: 2025-02-04 07:55:34 -0500 (Tue, 04 Feb 2025) EndedAt: 2025-02-04 07:56:31 -0500 (Tue, 04 Feb 2025) EllapsedTime: 57.4 seconds RetCode: 0 Status: OK PackageFile: enrichViewNet_1.5.0.zip PackageFileSize: 2.507 MiB