Package: enrichViewNet Version: 1.5.0 Command: chmod a+r enrichViewNet -R && E:\biocbuild\bbs-3.21-bioc\R\bin\R.exe CMD build --keep-empty-dirs --no-resave-data enrichViewNet StartedAt: 2025-02-04 18:34:39 -0500 (Tue, 04 Feb 2025) EndedAt: 2025-02-04 18:35:51 -0500 (Tue, 04 Feb 2025) EllapsedTime: 72.5 seconds RetCode: 0 Status: OK PackageFile: enrichViewNet_1.5.0.tar.gz PackageFileSize: 3.402 MiB