Package: enrichViewNet Version: 1.5.0 Command: E:\biocbuild\bbs-3.21-bioc\R\bin\R.exe CMD INSTALL enrichViewNet StartedAt: 2025-02-03 16:12:31 -0500 (Mon, 03 Feb 2025) EndedAt: 2025-02-03 16:13:21 -0500 (Mon, 03 Feb 2025) EllapsedTime: 50.1 seconds RetCode: 0 Status: OK