Package: enrichplot Version: 1.27.4 Command: rm -rf enrichplot.buildbin-libdir && mkdir enrichplot.buildbin-libdir && /Users/biocbuild/BBS/utils/build-universal.sh enrichplot_1.27.4.tar.gz /Library/Frameworks/R.framework/Resources/bin/R enrichplot.buildbin-libdir StartedAt: 2025-02-03 22:49:13 -0500 (Mon, 03 Feb 2025) EndedAt: 2025-02-03 22:49:24 -0500 (Mon, 03 Feb 2025) EllapsedTime: 10.2 seconds RetCode: 0 Status: OK PackageFile: enrichplot_1.27.4.tgz PackageFileSize: 304.3 KiB