Package: enrichplot Version: 1.27.4 Command: /Library/Frameworks/R.framework/Resources/bin/R CMD check --install=check:enrichplot.install-out.txt --library=/Library/Frameworks/R.framework/Resources/library --no-vignettes --timings enrichplot_1.27.4.tar.gz StartedAt: 2025-02-03 19:42:47 -0500 (Mon, 03 Feb 2025) EndedAt: 2025-02-03 19:43:54 -0500 (Mon, 03 Feb 2025) EllapsedTime: 66.7 seconds RetCode: 0 Status: OK CheckDir: enrichplot.Rcheck Warnings: 0