Package: enrichplot Version: 1.27.4 Command: /home/biocbuild/R/R/bin/R CMD build --keep-empty-dirs --no-resave-data enrichplot StartedAt: 2025-01-28 22:41:30 -0000 (Tue, 28 Jan 2025) EndedAt: 2025-01-28 22:42:02 -0000 (Tue, 28 Jan 2025) EllapsedTime: 32.0 seconds RetCode: 0 Status: OK PackageFile: enrichplot_1.27.4.tar.gz PackageFileSize: 97.88 KiB