Package: enrichplot Version: 1.27.4 Command: /Library/Frameworks/R.framework/Resources/bin/R CMD build --keep-empty-dirs --no-resave-data enrichplot StartedAt: 2025-02-03 16:41:29 -0500 (Mon, 03 Feb 2025) EndedAt: 2025-02-03 16:41:53 -0500 (Mon, 03 Feb 2025) EllapsedTime: 24.0 seconds RetCode: 0 Status: OK PackageFile: enrichplot_1.27.4.tar.gz PackageFileSize: 96.53 KiB