Package: enrichplot Version: 1.27.4 Command: /Library/Frameworks/R.framework/Resources/bin/R CMD INSTALL enrichplot StartedAt: 2025-02-03 15:37:17 -0500 (Mon, 03 Feb 2025) EndedAt: 2025-02-03 15:37:47 -0500 (Mon, 03 Feb 2025) EllapsedTime: 30.0 seconds RetCode: 0 Status: OK