Package: enrichplot Version: 1.27.4 Command: /home/biocbuild/bbs-3.21-bioc/R/bin/R CMD build --keep-empty-dirs --no-resave-data enrichplot StartedAt: 2025-02-03 17:16:18 -0500 (Mon, 03 Feb 2025) EndedAt: 2025-02-03 17:16:41 -0500 (Mon, 03 Feb 2025) EllapsedTime: 23.0 seconds RetCode: 0 Status: OK PackageFile: enrichplot_1.27.4.tar.gz PackageFileSize: 96.52 KiB