Package: enrichplot Version: 1.27.4 Command: /home/biocbuild/bbs-3.21-bioc/R/bin/R CMD INSTALL enrichplot StartedAt: 2025-02-03 15:53:42 -0500 (Mon, 03 Feb 2025) EndedAt: 2025-02-03 15:54:05 -0500 (Mon, 03 Feb 2025) EllapsedTime: 22.3 seconds RetCode: 0 Status: OK