Package: enrichplot Version: 1.27.4 Command: chmod a+r enrichplot -R && E:\biocbuild\bbs-3.21-bioc\R\bin\R.exe CMD build --keep-empty-dirs --no-resave-data enrichplot StartedAt: 2025-02-03 18:44:29 -0500 (Mon, 03 Feb 2025) EndedAt: 2025-02-03 18:45:02 -0500 (Mon, 03 Feb 2025) EllapsedTime: 32.9 seconds RetCode: 0 Status: OK PackageFile: enrichplot_1.27.4.tar.gz PackageFileSize: 96.54 KiB