Package: enrichplot Version: 1.27.4 Command: E:\biocbuild\bbs-3.21-bioc\R\bin\R.exe CMD check --no-multiarch --install=check:enrichplot.install-out.txt --library=E:\biocbuild\bbs-3.21-bioc\R\library --no-vignettes --timings enrichplot_1.27.4.tar.gz StartedAt: 2025-02-04 01:16:41 -0500 (Tue, 04 Feb 2025) EndedAt: 2025-02-04 01:20:19 -0500 (Tue, 04 Feb 2025) EllapsedTime: 218.3 seconds RetCode: 0 Status: OK CheckDir: enrichplot.Rcheck Warnings: 0