Package: enrichplot Version: 1.27.4 Command: E:\biocbuild\bbs-3.21-bioc\R\bin\R.exe CMD INSTALL enrichplot StartedAt: 2025-02-09 15:56:55 -0500 (Sun, 09 Feb 2025) EndedAt: 2025-02-09 15:57:49 -0500 (Sun, 09 Feb 2025) EllapsedTime: 53.8 seconds RetCode: 0 Status: OK