Package: ensembldb Version: 2.31.0 Command: rm -rf ensembldb.buildbin-libdir && mkdir ensembldb.buildbin-libdir && /Users/biocbuild/BBS/utils/build-universal.sh ensembldb_2.31.0.tar.gz /Library/Frameworks/R.framework/Resources/bin/R ensembldb.buildbin-libdir StartedAt: 2025-02-03 22:49:16 -0500 (Mon, 03 Feb 2025) EndedAt: 2025-02-03 22:49:34 -0500 (Mon, 03 Feb 2025) EllapsedTime: 18.3 seconds RetCode: 0 Status: OK PackageFile: ensembldb_2.31.0.tgz PackageFileSize: 3.604 MiB