Package: ensembldb Version: 2.31.0 Command: /Library/Frameworks/R.framework/Resources/bin/R CMD build --keep-empty-dirs --no-resave-data ensembldb StartedAt: 2025-02-09 16:14:15 -0500 (Sun, 09 Feb 2025) EndedAt: 2025-02-09 16:14:59 -0500 (Sun, 09 Feb 2025) EllapsedTime: 44.4 seconds RetCode: 0 Status: OK PackageFile: ensembldb_2.31.0.tar.gz PackageFileSize: 3.286 MiB