Package: ensembldb Version: 2.31.0 Command: /home/biocbuild/R/R/bin/R CMD build --keep-empty-dirs --no-resave-data ensembldb StartedAt: 2025-01-28 22:41:50 -0000 (Tue, 28 Jan 2025) EndedAt: 2025-01-28 22:44:42 -0000 (Tue, 28 Jan 2025) EllapsedTime: 172.1 seconds RetCode: 0 Status: OK PackageFile: ensembldb_2.31.0.tar.gz PackageFileSize: 3.484 MiB