Package: ensembldb Version: 2.31.0 Command: /Library/Frameworks/R.framework/Resources/bin/R CMD INSTALL ensembldb StartedAt: 2025-02-09 15:18:41 -0500 (Sun, 09 Feb 2025) EndedAt: 2025-02-09 15:19:37 -0500 (Sun, 09 Feb 2025) EllapsedTime: 56.6 seconds RetCode: 0 Status: OK