Package: ensembldb Version: 2.31.0 Command: /home/biocbuild/bbs-3.21-bioc/R/bin/R CMD check --install=check:ensembldb.install-out.txt --library=/home/biocbuild/bbs-3.21-bioc/R/site-library --timings ensembldb_2.31.0.tar.gz StartedAt: 2025-02-09 22:03:10 -0500 (Sun, 09 Feb 2025) EndedAt: 2025-02-09 22:22:21 -0500 (Sun, 09 Feb 2025) EllapsedTime: 1151.6 seconds RetCode: 0 Status: OK CheckDir: ensembldb.Rcheck Warnings: 0