Package: ensembldb Version: 2.31.0 Command: /home/biocbuild/bbs-3.21-bioc/R/bin/R CMD INSTALL ensembldb StartedAt: 2025-02-09 15:38:24 -0500 (Sun, 09 Feb 2025) EndedAt: 2025-02-09 15:39:06 -0500 (Sun, 09 Feb 2025) EllapsedTime: 41.6 seconds RetCode: 0 Status: OK