Package: ensembldb Version: 2.31.0 Command: chmod a+r ensembldb -R && E:\biocbuild\bbs-3.21-bioc\R\bin\R.exe CMD build --keep-empty-dirs --no-resave-data ensembldb StartedAt: 2025-02-09 18:32:48 -0500 (Sun, 09 Feb 2025) EndedAt: 2025-02-09 18:35:30 -0500 (Sun, 09 Feb 2025) EllapsedTime: 161.5 seconds RetCode: 0 Status: OK PackageFile: ensembldb_2.31.0.tar.gz PackageFileSize: 3.116 MiB