Package: ensembldb Version: 2.31.0 Command: E:\biocbuild\bbs-3.21-bioc\R\bin\R.exe CMD INSTALL ensembldb StartedAt: 2025-02-09 16:27:41 -0500 (Sun, 09 Feb 2025) EndedAt: 2025-02-09 16:29:10 -0500 (Sun, 09 Feb 2025) EllapsedTime: 88.9 seconds RetCode: 0 Status: OK