Package: epiNEM Version: 1.31.0 Command: rm -rf epiNEM.buildbin-libdir && mkdir epiNEM.buildbin-libdir && /Users/biocbuild/BBS/utils/build-universal.sh epiNEM_1.31.0.tar.gz /Library/Frameworks/R.framework/Resources/bin/R epiNEM.buildbin-libdir StartedAt: 2025-02-03 22:49:26 -0500 (Mon, 03 Feb 2025) EndedAt: 2025-02-03 22:49:34 -0500 (Mon, 03 Feb 2025) EllapsedTime: 8.2 seconds RetCode: 0 Status: OK PackageFile: epiNEM_1.31.0.tgz PackageFileSize: 2.609 MiB