Package: epiNEM Version: 1.31.0 Command: /home/biocbuild/R/R/bin/R CMD INSTALL epiNEM StartedAt: 2025-01-29 20:30:46 -0000 (Wed, 29 Jan 2025) EndedAt: 2025-01-29 20:31:10 -0000 (Wed, 29 Jan 2025) EllapsedTime: 23.7 seconds RetCode: 0 Status: OK