Package: epiNEM Version: 1.31.0 Command: /Library/Frameworks/R.framework/Resources/bin/R CMD build --keep-empty-dirs --no-resave-data epiNEM StartedAt: 2025-02-09 16:40:34 -0500 (Sun, 09 Feb 2025) EndedAt: 2025-02-09 16:41:56 -0500 (Sun, 09 Feb 2025) EllapsedTime: 82.3 seconds RetCode: 0 Status: OK PackageFile: epiNEM_1.31.0.tar.gz PackageFileSize: 2.407 MiB