Package: epiNEM Version: 1.31.0 Command: /Library/Frameworks/R.framework/Resources/bin/R CMD check --install=check:epiNEM.install-out.txt --library=/Library/Frameworks/R.framework/Resources/library --no-vignettes --timings epiNEM_1.31.0.tar.gz StartedAt: 2025-02-09 20:33:00 -0500 (Sun, 09 Feb 2025) EndedAt: 2025-02-09 20:36:00 -0500 (Sun, 09 Feb 2025) EllapsedTime: 179.5 seconds RetCode: 0 Status: OK CheckDir: epiNEM.Rcheck Warnings: 0