Package: epiNEM Version: 1.31.0 Command: /Library/Frameworks/R.framework/Resources/bin/R CMD INSTALL epiNEM StartedAt: 2025-02-04 15:40:23 -0500 (Tue, 04 Feb 2025) EndedAt: 2025-02-04 15:40:46 -0500 (Tue, 04 Feb 2025) EllapsedTime: 22.8 seconds RetCode: 0 Status: OK