Package: epiNEM Version: 1.31.0 Command: /home/biocbuild/bbs-3.21-bioc/R/bin/R CMD check --install=check:epiNEM.install-out.txt --library=/home/biocbuild/bbs-3.21-bioc/R/site-library --timings epiNEM_1.31.0.tar.gz StartedAt: 2025-02-09 22:05:02 -0500 (Sun, 09 Feb 2025) EndedAt: 2025-02-09 22:08:20 -0500 (Sun, 09 Feb 2025) EllapsedTime: 198.2 seconds RetCode: 0 Status: OK CheckDir: epiNEM.Rcheck Warnings: 0