Package: epiNEM Version: 1.31.0 Command: /home/biocbuild/bbs-3.21-bioc/R/bin/R CMD INSTALL epiNEM StartedAt: 2025-02-09 15:16:56 -0500 (Sun, 09 Feb 2025) EndedAt: 2025-02-09 15:17:12 -0500 (Sun, 09 Feb 2025) EllapsedTime: 16.2 seconds RetCode: 0 Status: OK