Package: epiNEM Version: 1.31.0 Command: rm -rf epiNEM.buildbin-libdir && mkdir epiNEM.buildbin-libdir && E:\biocbuild\bbs-3.21-bioc\R\bin\R.exe CMD INSTALL --build --library=epiNEM.buildbin-libdir epiNEM_1.31.0.tar.gz StartedAt: 2025-02-10 07:42:16 -0500 (Mon, 10 Feb 2025) EndedAt: 2025-02-10 07:42:58 -0500 (Mon, 10 Feb 2025) EllapsedTime: 42.2 seconds RetCode: 0 Status: OK PackageFile: epiNEM_1.31.0.zip PackageFileSize: 1.079 MiB