Package: epidecodeR Version: 1.15.0 Command: /Library/Frameworks/R.framework/Resources/bin/R CMD build --keep-empty-dirs --no-resave-data epidecodeR StartedAt: 2025-02-09 16:14:59 -0500 (Sun, 09 Feb 2025) EndedAt: 2025-02-09 16:15:19 -0500 (Sun, 09 Feb 2025) EllapsedTime: 19.2 seconds RetCode: 0 Status: OK PackageFile: epidecodeR_1.15.0.tar.gz PackageFileSize: 2.067 MiB