Package: epidecodeR Version: 1.15.0 Command: rm -rf epidecodeR.buildbin-libdir && mkdir epidecodeR.buildbin-libdir && /Users/biocbuild/BBS/utils/build-universal.sh epidecodeR_1.15.0.tar.gz /Library/Frameworks/R.framework/Resources/bin/R epidecodeR.buildbin-libdir StartedAt: 2025-02-10 00:52:17 -0500 (Mon, 10 Feb 2025) EndedAt: 2025-02-10 00:53:02 -0500 (Mon, 10 Feb 2025) EllapsedTime: 45.2 seconds RetCode: 0 Status: OK PackageFile: epidecodeR_1.15.0.tgz PackageFileSize: 1.948 MiB