Package: epidecodeR Version: 1.15.0 Command: /Library/Frameworks/R.framework/Resources/bin/R CMD build --keep-empty-dirs --no-resave-data epidecodeR StartedAt: 2025-02-03 16:41:39 -0500 (Mon, 03 Feb 2025) EndedAt: 2025-02-03 16:42:33 -0500 (Mon, 03 Feb 2025) EllapsedTime: 53.9 seconds RetCode: 0 Status: OK PackageFile: epidecodeR_1.15.0.tar.gz PackageFileSize: 2.066 MiB