Package: epidecodeR Version: 1.15.0 Command: /Library/Frameworks/R.framework/Resources/bin/R CMD INSTALL epidecodeR StartedAt: 2025-02-09 15:43:10 -0500 (Sun, 09 Feb 2025) EndedAt: 2025-02-09 15:43:53 -0500 (Sun, 09 Feb 2025) EllapsedTime: 43.1 seconds RetCode: 0 Status: OK