Package: epidecodeR Version: 1.15.0 Command: /home/biocbuild/bbs-3.21-bioc/R/bin/R CMD check --install=check:epidecodeR.install-out.txt --library=/home/biocbuild/bbs-3.21-bioc/R/site-library --timings epidecodeR_1.15.0.tar.gz StartedAt: 2025-02-09 22:03:51 -0500 (Sun, 09 Feb 2025) EndedAt: 2025-02-09 22:08:04 -0500 (Sun, 09 Feb 2025) EllapsedTime: 253.3 seconds RetCode: 0 Status: OK CheckDir: epidecodeR.Rcheck Warnings: 0