Package: epidecodeR Version: 1.15.0 Command: E:\biocbuild\bbs-3.21-bioc\R\bin\R.exe CMD check --no-multiarch --install=check:epidecodeR.install-out.txt --library=E:\biocbuild\bbs-3.21-bioc\R\library --no-vignettes --timings epidecodeR_1.15.0.tar.gz StartedAt: 2025-02-05 01:19:18 -0500 (Wed, 05 Feb 2025) EndedAt: 2025-02-05 01:23:58 -0500 (Wed, 05 Feb 2025) EllapsedTime: 279.9 seconds RetCode: 0 Status: OK CheckDir: epidecodeR.Rcheck Warnings: 0