Package: epigenomix Version: 1.47.0 Command: /Library/Frameworks/R.framework/Resources/bin/R CMD build --keep-empty-dirs --no-resave-data epigenomix StartedAt: 2025-02-12 16:15:17 -0500 (Wed, 12 Feb 2025) EndedAt: 2025-02-12 16:15:47 -0500 (Wed, 12 Feb 2025) EllapsedTime: 30.3 seconds RetCode: 0 Status: OK PackageFile: epigenomix_1.47.0.tar.gz PackageFileSize: 426.6 KiB