Package: epigenomix Version: 1.47.0 Command: /home/biocbuild/R/R/bin/R CMD build --keep-empty-dirs --no-resave-data epigenomix StartedAt: 2025-01-28 22:43:46 -0000 (Tue, 28 Jan 2025) EndedAt: 2025-01-28 22:45:42 -0000 (Tue, 28 Jan 2025) EllapsedTime: 116.0 seconds RetCode: 0 Status: OK PackageFile: epigenomix_1.47.0.tar.gz PackageFileSize: 426.5 KiB