Package: epigenomix Version: 1.47.0 Command: /home/biocbuild/R/R/bin/R CMD check --install=check:epigenomix.install-out.txt --library=/home/biocbuild/R/R/site-library --no-vignettes --timings epigenomix_1.47.0.tar.gz StartedAt: 2025-01-28 10:19:48 -0000 (Tue, 28 Jan 2025) EndedAt: 2025-01-28 10:26:21 -0000 (Tue, 28 Jan 2025) EllapsedTime: 392.4 seconds RetCode: 0 Status: OK CheckDir: epigenomix.Rcheck Warnings: 0