Package: epigenomix Version: 1.47.0 Command: /Library/Frameworks/R.framework/Resources/bin/R CMD check --install=check:epigenomix.install-out.txt --library=/Library/Frameworks/R.framework/Resources/library --no-vignettes --timings epigenomix_1.47.0.tar.gz StartedAt: 2025-02-09 20:32:22 -0500 (Sun, 09 Feb 2025) EndedAt: 2025-02-09 20:37:36 -0500 (Sun, 09 Feb 2025) EllapsedTime: 314.5 seconds RetCode: 0 Status: OK CheckDir: epigenomix.Rcheck Warnings: 0