Package: epigenomix Version: 1.47.0 Command: /Library/Frameworks/R.framework/Resources/bin/R CMD INSTALL epigenomix StartedAt: 2025-02-09 15:32:28 -0500 (Sun, 09 Feb 2025) EndedAt: 2025-02-09 15:33:20 -0500 (Sun, 09 Feb 2025) EllapsedTime: 52.2 seconds RetCode: 0 Status: OK