Package: epigenomix Version: 1.47.0 Command: chmod a+r epigenomix -R && E:\biocbuild\bbs-3.21-bioc\R\bin\R.exe CMD build --keep-empty-dirs --no-resave-data epigenomix StartedAt: 2025-02-09 18:33:47 -0500 (Sun, 09 Feb 2025) EndedAt: 2025-02-09 18:35:34 -0500 (Sun, 09 Feb 2025) EllapsedTime: 106.7 seconds RetCode: 0 Status: OK PackageFile: epigenomix_1.47.0.tar.gz PackageFileSize: 427.9 KiB