Package: epigraHMM Version: 1.15.0 Command: rm -rf epigraHMM.buildbin-libdir && mkdir epigraHMM.buildbin-libdir && /Users/biocbuild/BBS/utils/build-universal.sh epigraHMM_1.15.0.tar.gz /Library/Frameworks/R.framework/Resources/bin/R epigraHMM.buildbin-libdir StartedAt: 2025-02-04 22:15:25 -0500 (Tue, 04 Feb 2025) EndedAt: 2025-02-04 22:16:06 -0500 (Tue, 04 Feb 2025) EllapsedTime: 41.8 seconds RetCode: 0 Status: OK PackageFile: epigraHMM_1.15.0.tgz PackageFileSize: 2.025 MiB