Package: epigraHMM Version: 1.15.0 Command: /Library/Frameworks/R.framework/Resources/bin/R CMD INSTALL epigraHMM StartedAt: 2025-02-04 15:28:40 -0500 (Tue, 04 Feb 2025) EndedAt: 2025-02-04 15:29:18 -0500 (Tue, 04 Feb 2025) EllapsedTime: 38.3 seconds RetCode: 0 Status: OK