Package: epigraHMM Version: 1.15.0 Command: /home/biocbuild/R/R/bin/R CMD check --install=check:epigraHMM.install-out.txt --library=/home/biocbuild/R/R/site-library --no-vignettes --timings epigraHMM_1.15.0.tar.gz StartedAt: 2025-01-28 10:19:53 -0000 (Tue, 28 Jan 2025) EndedAt: 2025-01-28 10:30:16 -0000 (Tue, 28 Jan 2025) EllapsedTime: 622.6 seconds RetCode: 0 Status: WARNINGS CheckDir: epigraHMM.Rcheck Warnings: 1