Package: epigraHMM Version: 1.15.0 Command: /home/biocbuild/R/R/bin/R CMD INSTALL epigraHMM StartedAt: 2025-01-29 20:33:58 -0000 (Wed, 29 Jan 2025) EndedAt: 2025-01-29 20:37:12 -0000 (Wed, 29 Jan 2025) EllapsedTime: 193.6 seconds RetCode: 0 Status: OK