Package: epigraHMM Version: 1.15.0 Command: /Library/Frameworks/R.framework/Resources/bin/R CMD build --keep-empty-dirs --no-resave-data epigraHMM StartedAt: 2025-02-04 16:37:12 -0500 (Tue, 04 Feb 2025) EndedAt: 2025-02-04 16:46:31 -0500 (Tue, 04 Feb 2025) EllapsedTime: 559.1 seconds RetCode: 0 Status: OK PackageFile: epigraHMM_1.15.0.tar.gz PackageFileSize: 734.8 KiB